Workbook

Sheet Mode d'emploi
A1: Mode d'emploi
A2: 1. Onglet "Hypothèses"
A3: Renseignez le nombre d'élèves de l'établissement (cellule B4) et choisissez votre indicateur de référence (cellule B2), le nombre de tranches tarifaires de la grille (cellule B5) et si vous souhaitez ou non ajouter une réduction fratries (cellule B3).
A4: Choisissez le nom des tranches tarifaires dans les cellules A9 à A15.
A5: Si vous décidez de proposer une réduction fratries, complétez dans les cellules B19 à B36 les pourcentages de réductions que vous souhaitez accorder. Si aucune réduction fratries n'est accordée, renseignez 0% dans ces cellules.
A6: Dans les cellule G9 à I15, proposez des tranches de revenu ou de quotient familial (montants min et max de revenu ou de quotient familial en desssous duquel et au dessus duquel le tarif va changer) et des montants des contributions des familles par tranche. - Attention : la cellule G9 doit être laissée vide et la dernière cellule de votre grille (variable en fonction du nombre de tranches que vous avez choisi) doit également rester vide. - La colonne J vous permet de vous assurer que le montant de la contribution des familles est cohérent avec le revenu (ou le quotient familial) des différentes tranches.
A8: 2. Onglet "Données source"
A9: Complétez les colonnes A, B, C et D avec le nom des élèves, leur classe, le montant du revenu de leur famille (ou leur quotient familial en fonction de l'indicateur de référence que vous aurez choisi) et la place de l'élève dans la fratrie
A10: Si aucune réduction fratries n'est accordée, la colonne D peut être laissée vide.
A11: L'outil détermine montant de contribution des familles de chaque enfant à partir des hypothèses prises dans l'onglet Hypothèses.
A12: L'outil fonctionne jusqu'à 280 élèves. Au-délà de 280 enfants, il faudra revoir les formules de calcul de l'outil.
A14: 3. Onglet "Résultats"
... A16: Si le total des contributions des familles est en dessous ou au dessus de votre objectif, modifiez les hypothèses dans l'onglet "Hypothèses".

Sheet Hypothèses
A1: Hypothèses Tarification sociale
A2: Indicateur de référence | B2: Quotient familial | D2: Attention à ne compléter QUE les cellules en orange
A3: Réduction fratrie | B3: Oui
A4: Nombre d'élèves
A5: Nombre de tranches | B5: 4 | C5: Min 3 et Max 7
A7: Tranche | B7: =Hypothèses!B2 -> Quotient familial | D7: Contribution des familles (en €/an) | F7: Tranche | G7: =B2 -> Quotient familial | I7: Contribution des familles (en €/an) | J7: =_xlfn.CONCAT("Contribution en % du ",$B$2) -> Contribution en % du Quotient familial
B8: de | C8: à | G8: de | H8: à
A9: A | B9: laisser vide | C9: à compléter | D9: à compléter | F9: A | J9: =_xlfn.CONCAT("minimum ",ROUND(I9/H9*100,1),"%") -> #DIV/0!
A10: B | B10: à compléter | C10: à compléter | D10: à compléter | F10: B | J10: =_xlfn.CONCAT("entre ",ROUND(I10/H10*100,1),"% et ",ROUND(I10/G10*100,1),"%") -> #DIV/0!
A11: C | B11: à compléter | C11: =IF($B$5=3,"laisser vide","à compléter") -> à compléter | D11: à compléter | F11: C | J11: =IF(H11="",_xlfn.CONCAT("maximum ",ROUND(I11/G11*100,1),"%"),_xlfn.CONCAT("entre ",ROUND(I11/H11*100,1),"% et ",ROUND(I11/G11*100,1),"%")) -> #DIV/0!
A12: D | B12: =IF($B$5>=4,"à compléter","écrire n.a.") -> à compléter | C12: =IF($B$5>4,"à compléter",IF($B$5=4,"laisser vide","écrire n.a.")) -> laisser vide | D12: =IF($B$5>=4,"à compléter","écrire n.a.") -> à compléter | F12: D | J12: =IF(I12="n.a.","n.a.",IF(H12="",_xlfn.CONCAT("maximum ",ROUND(I12/G12*100,1),"%"),_xlfn.CONCAT("entre ",ROUND(I12/H12*100,1),"% et ",ROUND(I12/G12*100,1),"%"))) -> #DIV/0!
A13: E | B13: =IF($B$5>=5,"à compléter","écrire n.a.") -> écrire n.a. | C13: =IF($B$5>5,"à compléter",IF($B$5=5,"laisser vide","écrire n.a.")) -> écrire n.a. | D13: =IF($B$5>=5,"à compléter","écrire n.a.") -> écrire n.a. | F13: E | G13: n.a. | H13: n.a. | I13: n.a. | J13: =IF(I13="n.a.","n.a.",IF(H13="",_xlfn.CONCAT("maximum ",ROUND(I13/G13*100,1),"%"),_xlfn.CONCAT("entre ",ROUND(I13/H13*100,1),"% et ",ROUND(I13/G13*100,1),"%"))) -> n.a.
A14: F | B14: =IF($B$5>=6,"à compléter","écrire n.a.") -> écrire n.a. | C14: =IF($B$5>6,"à compléter",IF($B$5=6,"laisser vide","écrire n.a.")) -> écrire n.a. | D14: =IF($B$5>=6,"à compléter","écrire n.a.") -> écrire n.a. | F14: F | G14: n.a. | H14: n.a. | I14: n.a. | J14: =IF(I14="n.a.","n.a.",IF(H14="",_xlfn.CONCAT("maximum ",ROUND(I14/G14*100,1),"%"),_xlfn.CONCAT("entre ",ROUND(I14/H14*100,1),"% et ",ROUND(I14/G14*100,1),"%"))) -> n.a.
A15: G | B15: =IF($B$5>=7,"à compléter","écrire n.a.") -> écrire n.a. | C15: =IF($B$5=7,"laisser vide","écrire n.a.") -> écrire n.a. | D15: =IF($B$5>=7,"à compléter","écrire n.a.") -> écrire n.a. | F15: G | G15: n.a. | H15: n.a. | I15: n.a. | J15: =IF(I15="n.a.","n.a.",IF(H15="",_xlfn.CONCAT("maximum ",ROUND(I15/G15*100,1),"%"),_xlfn.CONCAT("entre ",ROUND(I15/H15*100,1),"% et ",ROUND(I15/G15*100,1),"%"))) -> n.a.
A16: Remarque : Ne pas toucher aux cellules vides
A18: Hypothèses Réduction fratrie | B18: Remarque : si aucune réduction n'est accordée, taper 0%
A19: Nb d'enfants : 2 | B19: Réduction suppl. accordée
A20: 1er sur 2 enfants scolarisés | B20: 0
A21: 2ème sur 2 enfants scolarisés | B21: 0
A22: Nb d'enfants : 3
A23: 1er sur 3 enfants scolarisés | B23: 0
A24: 2ème sur 3 enfants scolarisés | B24: 0
A25: 3ème sur 3 enfants scolarisés | B25: 0
A26: Nb d'enfants : 4
A27: 1er sur 4 enfants scolarisés | B27: 0
A28: 2ème sur 4 enfants scolarisés | B28: 0
A29: 3ème sur 4 enfants scolarisés | B29: 0
A30: 4ème sur 4 enfants scolarisés | B30: 0
A31: Nb d'enfants : 5
A32: 1er sur 5 enfants scolarisés | B32: 0
A33: 2ème sur 5 enfants scolarisés | B33: 0
A34: 3ème sur 5 enfants scolarisés | B34: 0
A35: 4ème sur 5 enfants scolarisés | B35: 0.035
A36: 5ème sur 5 enfants scolarisés | B36: 0.035

Sheet Liste
A1: Tranches | D1: Réduction fratrie | F1: Fratrie
A2: Revenu fiscal de référence | D2: Oui | F2: 1 seul enfant scolarisé
A3: Quotient familial | D3: Non | F3: 1er sur 2 enfants scolarisés
F4: 2ème sur 2 enfants scolarisés
F5: 1er sur 3 enfants scolarisés
F6: 2ème sur 3 enfants scolarisés
F7: 3ème sur 3 enfants scolarisés
F8: 1er sur 4 enfants scolarisés
F9: 2ème sur 4 enfants scolarisés
F10: 3ème sur 4 enfants scolarisés
F11: 4ème sur 4 enfants scolarisés
F12: 1er sur 5 enfants scolarisés
F13: 2ème sur 5 enfants scolarisés
F14: 3ème sur 5 enfants scolarisés
F15: 4ème sur 5 enfants scolarisés
F16: 5ème sur 5 enfants scolarisés

Sheet Données sources
A1: Nom élèves | B1: Classe | C1: =Hypothèses!B2 -> Quotient familial | D1: Fratrie | E1: Tranche | F1: Contribution des familles avant réduc fratrie (en €/an) | G1: Réduction fratrie (en %) | H1: Contribution des familles après réduc fratrie (en €/an)
A2: 1 | E2: =IF(ISBLANK(C2),"",IF(C2>=Hypothèses!$G$15,Hypothèses!$A$15,IF(C2>=Hypothèses!$G$14,Hypothèses!$A$14,IF(C2>=Hypothèses!$G$13,Hypothèses!$A$13,IF(C2>=Hypothèses!$G$12,Hypothèses!$A$12,IF(C2>=Hypothèses!$G$11,Hypothèses!$A$11,IF(C2>=Hypothèses!$G$10,Hypothèses!$A$10,Hypothèses!$A$9))))))) | F2: =IF(ISBLANK(C2),"",VLOOKUP(E2,Hypothèses!$A$9:$I$15,9,FALSE)) | G2: =IF(ISBLANK(C2),"",IF(Hypothèses!$B$3="Oui",IF(D2=Liste!$F$2,0%,VLOOKUP(D2,Hypothèses!$A$19:$B$36,2,FALSE)),"")) | H2: =IF(ISBLANK(C2),"",IF(Hypothèses!$B$3="Oui",F2*(1-G2),F2))
A3: 2 | E3: =IF(ISBLANK(C3),"",IF(C3>=Hypothèses!$G$15,Hypothèses!$A$15,IF(C3>=Hypothèses!$G$14,Hypothèses!$A$14,IF(C3>=Hypothèses!$G$13,Hypothèses!$A$13,IF(C3>=Hypothèses!$G$12,Hypothèses!$A$12,IF(C3>=Hypothèses!$G$11,Hypothèses!$A$11,IF(C3>=Hypothèses!$G$10,Hypothèses!$A$10,Hypothèses!$A$9))))))) | F3: =IF(ISBLANK(C3),"",VLOOKUP(E3,Hypothèses!$A$9:$I$15,9,FALSE)) | G3: =IF(ISBLANK(C3),"",IF(Hypothèses!$B$3="Oui",IF(D3=Liste!$F$2,0%,VLOOKUP(D3,Hypothèses!$A$19:$B$36,2,FALSE)),"")) | H3: =IF(ISBLANK(C3),"",IF(Hypothèses!$B$3="Oui",F3*(1-G3),F3))
A4: 3 | E4: =IF(ISBLANK(C4),"",IF(C4>=Hypothèses!$G$15,Hypothèses!$A$15,IF(C4>=Hypothèses!$G$14,Hypothèses!$A$14,IF(C4>=Hypothèses!$G$13,Hypothèses!$A$13,IF(C4>=Hypothèses!$G$12,Hypothèses!$A$12,IF(C4>=Hypothèses!$G$11,Hypothèses!$A$11,IF(C4>=Hypothèses!$G$10,Hypothèses!$A$10,Hypothèses!$A$9))))))) | F4: =IF(ISBLANK(C4),"",VLOOKUP(E4,Hypothèses!$A$9:$I$15,9,FALSE)) | G4: =IF(ISBLANK(C4),"",IF(Hypothèses!$B$3="Oui",IF(D4=Liste!$F$2,0%,VLOOKUP(D4,Hypothèses!$A$19:$B$36,2,FALSE)),"")) | H4: =IF(ISBLANK(C4),"",IF(Hypothèses!$B$3="Oui",F4*(1-G4),F4))
A5: 4 | E5: =IF(ISBLANK(C5),"",IF(C5>=Hypothèses!$G$15,Hypothèses!$A$15,IF(C5>=Hypothèses!$G$14,Hypothèses!$A$14,IF(C5>=Hypothèses!$G$13,Hypothèses!$A$13,IF(C5>=Hypothèses!$G$12,Hypothèses!$A$12,IF(C5>=Hypothèses!$G$11,Hypothèses!$A$11,IF(C5>=Hypothèses!$G$10,Hypothèses!$A$10,Hypothèses!$A$9))))))) | F5: =IF(ISBLANK(C5),"",VLOOKUP(E5,Hypothèses!$A$9:$I$15,9,FALSE)) | G5: =IF(ISBLANK(C5),"",IF(Hypothèses!$B$3="Oui",IF(D5=Liste!$F$2,0%,VLOOKUP(D5,Hypothèses!$A$19:$B$36,2,FALSE)),"")) | H5: =IF(ISBLANK(C5),"",IF(Hypothèses!$B$3="Oui",F5*(1-G5),F5))
A6: 5 | E6: =IF(ISBLANK(C6),"",IF(C6>=Hypothèses!$G$15,Hypothèses!$A$15,IF(C6>=Hypothèses!$G$14,Hypothèses!$A$14,IF(C6>=Hypothèses!$G$13,Hypothèses!$A$13,IF(C6>=Hypothèses!$G$12,Hypothèses!$A$12,IF(C6>=Hypothèses!$G$11,Hypothèses!$A$11,IF(C6>=Hypothèses!$G$10,Hypothèses!$A$10,Hypothèses!$A$9))))))) | F6: =IF(ISBLANK(C6),"",VLOOKUP(E6,Hypothèses!$A$9:$I$15,9,FALSE)) | G6: =IF(ISBLANK(C6),"",IF(Hypothèses!$B$3="Oui",IF(D6=Liste!$F$2,0%,VLOOKUP(D6,Hypothèses!$A$19:$B$36,2,FALSE)),"")) | H6: =IF(ISBLANK(C6),"",IF(Hypothèses!$B$3="Oui",F6*(1-G6),F6))
A7: 6 | E7: =IF(ISBLANK(C7),"",IF(C7>=Hypothèses!$G$15,Hypothèses!$A$15,IF(C7>=Hypothèses!$G$14,Hypothèses!$A$14,IF(C7>=Hypothèses!$G$13,Hypothèses!$A$13,IF(C7>=Hypothèses!$G$12,Hypothèses!$A$12,IF(C7>=Hypothèses!$G$11,Hypothèses!$A$11,IF(C7>=Hypothèses!$G$10,Hypothèses!$A$10,Hypothèses!$A$9))))))) | F7: =IF(ISBLANK(C7),"",VLOOKUP(E7,Hypothèses!$A$9:$I$15,9,FALSE)) | G7: =IF(ISBLANK(C7),"",IF(Hypothèses!$B$3="Oui",IF(D7=Liste!$F$2,0%,VLOOKUP(D7,Hypothèses!$A$19:$B$36,2,FALSE)),"")) | H7: =IF(ISBLANK(C7),"",IF(Hypothèses!$B$3="Oui",F7*(1-G7),F7))
A8: 7 | E8: =IF(ISBLANK(C8),"",IF(C8>=Hypothèses!$G$15,Hypothèses!$A$15,IF(C8>=Hypothèses!$G$14,Hypothèses!$A$14,IF(C8>=Hypothèses!$G$13,Hypothèses!$A$13,IF(C8>=Hypothèses!$G$12,Hypothèses!$A$12,IF(C8>=Hypothèses!$G$11,Hypothèses!$A$11,IF(C8>=Hypothèses!$G$10,Hypothèses!$A$10,Hypothèses!$A$9))))))) | F8: =IF(ISBLANK(C8),"",VLOOKUP(E8,Hypothèses!$A$9:$I$15,9,FALSE)) | G8: =IF(ISBLANK(C8),"",IF(Hypothèses!$B$3="Oui",IF(D8=Liste!$F$2,0%,VLOOKUP(D8,Hypothèses!$A$19:$B$36,2,FALSE)),"")) | H8: =IF(ISBLANK(C8),"",IF(Hypothèses!$B$3="Oui",F8*(1-G8),F8))
A9: 8 | E9: =IF(ISBLANK(C9),"",IF(C9>=Hypothèses!$G$15,Hypothèses!$A$15,IF(C9>=Hypothèses!$G$14,Hypothèses!$A$14,IF(C9>=Hypothèses!$G$13,Hypothèses!$A$13,IF(C9>=Hypothèses!$G$12,Hypothèses!$A$12,IF(C9>=Hypothèses!$G$11,Hypothèses!$A$11,IF(C9>=Hypothèses!$G$10,Hypothèses!$A$10,Hypothèses!$A$9))))))) | F9: =IF(ISBLANK(C9),"",VLOOKUP(E9,Hypothèses!$A$9:$I$15,9,FALSE)) | G9: =IF(ISBLANK(C9),"",IF(Hypothèses!$B$3="Oui",IF(D9=Liste!$F$2,0%,VLOOKUP(D9,Hypothèses!$A$19:$B$36,2,FALSE)),"")) | H9: =IF(ISBLANK(C9),"",IF(Hypothèses!$B$3="Oui",F9*(1-G9),F9))
A10: 9 | E10: =IF(ISBLANK(C10),"",IF(C10>=Hypothèses!$G$15,Hypothèses!$A$15,IF(C10>=Hypothèses!$G$14,Hypothèses!$A$14,IF(C10>=Hypothèses!$G$13,Hypothèses!$A$13,IF(C10>=Hypothèses!$G$12,Hypothèses!$A$12,IF(C10>=Hypothèses!$G$11,Hypothèses!$A$11,IF(C10>=Hypothèses!$G$10,Hypothèses!$A$10,Hypothèses!$A$9))))))) | F10: =IF(ISBLANK(C10),"",VLOOKUP(E10,Hypothèses!$A$9:$I$15,9,FALSE)) | G10: =IF(ISBLANK(C10),"",IF(Hypothèses!$B$3="Oui",IF(D10=Liste!$F$2,0%,VLOOKUP(D10,Hypothèses!$A$19:$B$36,2,FALSE)),"")) | H10: =IF(ISBLANK(C10),"",IF(Hypothèses!$B$3="Oui",F10*(1-G10),F10))
A11: 10 | E11: =IF(ISBLANK(C11),"",IF(C11>=Hypothèses!$G$15,Hypothèses!$A$15,IF(C11>=Hypothèses!$G$14,Hypothèses!$A$14,IF(C11>=Hypothèses!$G$13,Hypothèses!$A$13,IF(C11>=Hypothèses!$G$12,Hypothèses!$A$12,IF(C11>=Hypothèses!$G$11,Hypothèses!$A$11,IF(C11>=Hypothèses!$G$10,Hypothèses!$A$10,Hypothèses!$A$9))))))) | F11: =IF(ISBLANK(C11),"",VLOOKUP(E11,Hypothèses!$A$9:$I$15,9,FALSE)) | G11: =IF(ISBLANK(C11),"",IF(Hypothèses!$B$3="Oui",IF(D11=Liste!$F$2,0%,VLOOKUP(D11,Hypothèses!$A$19:$B$36,2,FALSE)),"")) | H11: =IF(ISBLANK(C11),"",IF(Hypothèses!$B$3="Oui",F11*(1-G11),F11))
A12: 11 | E12: =IF(ISBLANK(C12),"",IF(C12>=Hypothèses!$G$15,Hypothèses!$A$15,IF(C12>=Hypothèses!$G$14,Hypothèses!$A$14,IF(C12>=Hypothèses!$G$13,Hypothèses!$A$13,IF(C12>=Hypothèses!$G$12,Hypothèses!$A$12,IF(C12>=Hypothèses!$G$11,Hypothèses!$A$11,IF(C12>=Hypothèses!$G$10,Hypothèses!$A$10,Hypothèses!$A$9))))))) | F12: =IF(ISBLANK(C12),"",VLOOKUP(E12,Hypothèses!$A$9:$I$15,9,FALSE)) | G12: =IF(ISBLANK(C12),"",IF(Hypothèses!$B$3="Oui",IF(D12=Liste!$F$2,0%,VLOOKUP(D12,Hypothèses!$A$19:$B$36,2,FALSE)),"")) | H12: =IF(ISBLANK(C12),"",IF(Hypothèses!$B$3="Oui",F12*(1-G12),F12))
A13: 12 | E13: =IF(ISBLANK(C13),"",IF(C13>=Hypothèses!$G$15,Hypothèses!$A$15,IF(C13>=Hypothèses!$G$14,Hypothèses!$A$14,IF(C13>=Hypothèses!$G$13,Hypothèses!$A$13,IF(C13>=Hypothèses!$G$12,Hypothèses!$A$12,IF(C13>=Hypothèses!$G$11,Hypothèses!$A$11,IF(C13>=Hypothèses!$G$10,Hypothèses!$A$10,Hypothèses!$A$9))))))) | F13: =IF(ISBLANK(C13),"",VLOOKUP(E13,Hypothèses!$A$9:$I$15,9,FALSE)) | G13: =IF(ISBLANK(C13),"",IF(Hypothèses!$B$3="Oui",IF(D13=Liste!$F$2,0%,VLOOKUP(D13,Hypothèses!$A$19:$B$36,2,FALSE)),"")) | H13: =IF(ISBLANK(C13),"",IF(Hypothèses!$B$3="Oui",F13*(1-G13),F13))
... A281: 280 | E281: =IF(ISBLANK(C281),"",IF(C281>=Hypothèses!$G$15,Hypothèses!$A$15,IF(C281>=Hypothèses!$G$14,Hypothèses!$A$14,IF(C281>=Hypothèses!$G$13,Hypothèses!$A$13,IF(C281>=Hypothèses!$G$12,Hypothèses!$A$12,IF(C281>=Hypothèses!$G$11,Hypothèses!$A$11,IF(C281>=Hypothèses!$G$10,Hypothèses!$A$10,Hypothèses!$A$9))))))) | F281: =IF(ISBLANK(C281),"",VLOOKUP(E281,Hypothèses!$A$9:$I$15,9,FALSE)) | G281: =IF(ISBLANK(C281),"",IF(Hypothèses!$B$3="Oui",IF(D281=Liste!$F$2,0%,VLOOKUP(D281,Hypothèses!$A$19:$B$36,2,FALSE)),"")) | H281: =IF(ISBLANK(C281),"",IF(Hypothèses!$B$3="Oui",F281*(1-G281),F281))
F283: =SUM(F2:F281) -> 0 | H283: =SUM(H2:H281) -> 0

Sheet Résultats
A3: Tranche | B3: =Hypothèses!G7 -> Quotient familial | D3: Contribution des familles (en €/an) | F3: Nb élèves | G3: en % du total des élèves | I3: Total contrib des familles avant réduc fratrie | J3: en % du total des contrib. | L3: Total contrib des familles après réduc fratrie | M3: en % du total des contrib.
B4: de | C4: à
A5: =Hypothèses!A9 -> A | B5: =IF(Hypothèses!G9="","",Hypothèses!G9) | C5: =Hypothèses!H9 -> 0 | D5: =Hypothèses!I9 -> 0 | F5: =COUNTIF('Données sources'!$E$2:$E$281,Hypothèses!A9) -> 0 | G5: =F5/$F$12 -> #DIV/0! | I5: =SUMIF('Données sources'!$E$2:$E$281,Hypothèses!A9,'Données sources'!$F$2:$F$281) -> 0 | J5: =I5/$I$12 -> #DIV/0! | L5: =SUMIF('Données sources'!$E$2:$E$281,Hypothèses!A9,'Données sources'!$H$2:$H$281) -> 0 | M5: =L5/$L$12 -> #DIV/0!
A6: =Hypothèses!A10 -> B | B6: =Hypothèses!G10 -> 0 | C6: =Hypothèses!H10 -> 0 | D6: =Hypothèses!I10 -> 0 | F6: =COUNTIF('Données sources'!$E$2:$E$281,Hypothèses!A10) -> 0 | G6: =F6/$F$12 -> #DIV/0! | I6: =SUMIF('Données sources'!$E$2:$E$281,Hypothèses!A10,'Données sources'!$F$2:$F$281) -> 0 | J6: =I6/$I$12 -> #DIV/0! | L6: =SUMIF('Données sources'!$E$2:$E$281,Hypothèses!A10,'Données sources'!$H$2:$H$281) -> 0 | M6: =L6/$L$12 -> #DIV/0!
A7: =Hypothèses!A11 -> C | B7: =Hypothèses!G11 -> 0 | C7: =IF(Hypothèses!H11="","",Hypothèses!H11) | D7: =Hypothèses!I11 -> 0 | F7: =COUNTIF('Données sources'!$E$2:$E$281,Hypothèses!A11) -> 0 | G7: =F7/$F$12 -> #DIV/0! | I7: =SUMIF('Données sources'!$E$2:$E$281,Hypothèses!A11,'Données sources'!$F$2:$F$281) -> 0 | J7: =I7/$I$12 -> #DIV/0! | L7: =SUMIF('Données sources'!$E$2:$E$281,Hypothèses!A11,'Données sources'!$H$2:$H$281) -> 0 | M7: =L7/$L$12 -> #DIV/0!
A8: =Hypothèses!A12 -> D | B8: =Hypothèses!G12 -> 0 | C8: =IF(Hypothèses!H12="","",Hypothèses!H12) | D8: =Hypothèses!I12 -> 0 | F8: =COUNTIF('Données sources'!$E$2:$E$281,Hypothèses!A12) -> 0 | G8: =F8/$F$12 -> #DIV/0! | I8: =SUMIF('Données sources'!$E$2:$E$281,Hypothèses!A12,'Données sources'!$F$2:$F$281) -> 0 | J8: =I8/$I$12 -> #DIV/0! | L8: =SUMIF('Données sources'!$E$2:$E$281,Hypothèses!A12,'Données sources'!$H$2:$H$281) -> 0 | M8: =L8/$L$12 -> #DIV/0!
A9: =Hypothèses!A13 -> E | B9: =Hypothèses!G13 -> n.a. | C9: =IF(Hypothèses!H13="","",Hypothèses!H13) -> n.a. | D9: =Hypothèses!I13 -> n.a. | F9: =COUNTIF('Données sources'!$E$2:$E$281,Hypothèses!A13) -> 0 | G9: =F9/$F$12 -> #DIV/0! | I9: =SUMIF('Données sources'!$E$2:$E$281,Hypothèses!A13,'Données sources'!$F$2:$F$281) -> 0 | J9: =I9/$I$12 -> #DIV/0! | L9: =SUMIF('Données sources'!$E$2:$E$281,Hypothèses!A13,'Données sources'!$H$2:$H$281) -> 0 | M9: =L9/$L$12 -> #DIV/0!
A10: =Hypothèses!A14 -> F | B10: =Hypothèses!G14 -> n.a. | C10: =IF(Hypothèses!H14="","",Hypothèses!H14) -> n.a. | D10: =Hypothèses!I14 -> n.a. | F10: =COUNTIF('Données sources'!$E$2:$E$281,Hypothèses!A14) -> 0 | G10: =F10/$F$12 -> #DIV/0! | I10: =SUMIF('Données sources'!$E$2:$E$281,Hypothèses!A14,'Données sources'!$F$2:$F$281) -> 0 | J10: =I10/$I$12 -> #DIV/0! | L10: =SUMIF('Données sources'!$E$2:$E$281,Hypothèses!A14,'Données sources'!$H$2:$H$281) -> 0 | M10: =L10/$L$12 -> #DIV/0!
A11: =Hypothèses!A15 -> G | B11: =Hypothèses!G15 -> n.a. | C11: =IF(Hypothèses!H15="","",Hypothèses!H15) -> n.a. | D11: =Hypothèses!I15 -> n.a. | F11: =COUNTIF('Données sources'!$E$2:$E$281,Hypothèses!A15) -> 0 | G11: =F11/$F$12 -> #DIV/0! | I11: =SUMIF('Données sources'!$E$2:$E$281,Hypothèses!A15,'Données sources'!$F$2:$F$281) -> 0 | J11: =I11/$I$12 -> #DIV/0! | L11: =SUMIF('Données sources'!$E$2:$E$281,Hypothèses!A15,'Données sources'!$H$2:$H$281) -> 0 | M11: =L11/$L$12 -> #DIV/0!
A12: Total | F12: =SUM(F5:F11) -> 0 | G12: =F12/$F$12 -> #DIV/0! | I12: =SUM(I5:I11) -> 0 | J12: =I12/$I$12 -> #DIV/0! | L12: =SUM(L5:L11) -> 0 | M12: =L12/$L$12 -> #DIV/0!
A13: Forfait moyen par élève évalué en fonction de l'échantillon et de la grille ci-dessus | I13: =+I12/F12 -> #DIV/0!
D14: check | F14: =F12-Hypothèses!B4 -> 0 | I14: =I12-'Données sources'!F283 -> 0 | L14: =L12-'Données sources'!H283 -> 0
A16: Nombre d'élèves bénéficiant d'une réduction fratrie | F16: =COUNTIF('Données sources'!$G$2:$G$143,">0%") -> 0
